BEGIN:VCALENDAR
VERSION:2.0
PRODID:-//AFMOZ Maranatha Hatcliffe - ECPv6.1.2.2//NONSGML v1.0//EN
CALSCALE:GREGORIAN
METHOD:PUBLISH
X-WR-CALNAME:AFMOZ Maranatha Hatcliffe
X-ORIGINAL-URL:https://afmozmaranatha.org.zw
X-WR-CALDESC:Events for AFMOZ Maranatha Hatcliffe
REFRESH-INTERVAL;VALUE=DURATION:PT1H
X-Robots-Tag:noindex
X-PUBLISHED-TTL:PT1H
BEGIN:VTIMEZONE
TZID:UTC
BEGIN:STANDARD
TZOFFSETFROM:+0000
TZOFFSETTO:+0000
TZNAME:UTC
DTSTART:20230101T000000
END:STANDARD
END:VTIMEZONE
BEGIN:VEVENT
DTSTART;TZID=UTC:20230720T170000
DTEND;TZID=UTC:20230722T200000
DTSTAMP:20260423T064614
CREATED:20230711T213217Z
LAST-MODIFIED:20230718T123125Z
UID:6819-1689872400-1690056000@afmozmaranatha.org.zw
SUMMARY:But by My Spirit Revival
DESCRIPTION:
URL:https://afmozmaranatha.org.zw/event/but-by-my-spirit-revival/
LOCATION:AFM of Zimbabwe- Maranatha Revival Centre ( Hatcliffe)\, Hatcliffe\, Harare\, Harare\, 263\, Zimbabwe
CATEGORIES:Revivals
ATTACH;FMTTYPE=image/jpeg:https://afmozmaranatha.org.zw/wp-content/uploads/2023/07/afmoz-maranatha-events-hatcliffe-afmo-of-zimbabwe-harare.jpg
ORGANIZER;CN="AFMOZ%20Maranatha%20Administration":MAILTO:admin@afmozmaranatha.org.zw
END:VEVENT
END:VCALENDAR